BEGIN:VCALENDAR
VERSION:2.0
PRODID:-//Michael Angstadt//biweekly 0.4.4//EN
CALSCALE:GREGORIAN
METHOD:PUPLISH
X-FROM-URL:https://www.digitalzentrum-fokus-mensch.de
X-WR-TIMEZONE:Europe/Berlin
BEGIN:VEVENT
UID:ap_2077@www.digitalzentrum-fokus-mensch.de
SUMMARY:Snacktime Digitalisierung "Psychologische Perspektiven auf den Umga
 ng mit digitalen KI-Biases"
DESCRIPTION:\n\nStarten Sie Ihren Tag mit einem kompakten und leicht verdau
 lichen Wissens-Snack\, den Sie direkt anwenden können! In unserem Onlinefo
 rmat nehmen wir uns jeden 3. Mittwoch im Monat von 8:30 bis 9:00 Uhr Zeit\
 , um Ihnen spannende Einblicke in aktuelle Digitalthemen zu bieten. Ob bei 
 einer Tasse Kaffee oder Tee – freuen Sie sich auf kompakte Impulse und die 
 Gelegenheit\, sich direkt mit uns auszutauschen. \n\nIm Vordergrund steht 
 eine Diskussion mit Teilnehmenden und Inputs zu: Wie technische Faktoren u
 nd menschliche Wahrnehmung zu Verzerrungen (Biases) in KI-Systemen führen 
 können. Wie entstehen Biases in der künstlichen Intelligenz? Wie beeinflus
 sen menschliche Wahrnehmung und Einstellungen KI-Ergebnisse? Wie können tr
 ansparente\, menschzentrierte KI-Ansätze für faire Ergebnisse sorgen? \n\n
 Genießen Sie Ihren Morgenkaffee oder Tee – und lassen Sie sich inspirieren
 ! \n\nJetzt kostenfrei anmelden* \n\n*Die Einwahldaten werden Ihnen nach d
 er Anmeldung automatisch zugeschickt. Sie müssen sich nur einmal für die g
 esamte Veranstaltungsreihe anmelden und können dann beliebig an den einzel
 nen Terminen teilnehmen. Die Einwahldaten für das Meeting bleiben für die 
 gesamte Veranstaltungsreihe gleich.
X-ALT-DESC;FMTTYPE=text/html:<p>Starten Sie Ihren Tag mit einem kompakten u
 nd leicht verdaulichen Wissens-Snack, den Sie direkt anwenden können! In u
 nserem Onlineformat nehmen wir uns <strong>jeden 3. Mittwoch im Monat von 
 8:30 bis 9:00 Uhr</strong> Zeit, um Ihnen spannende Einblicke in aktuelle 
 Digitalthemen zu bieten. Ob bei einer Tasse Kaffee oder Tee – freuen 
 Sie sich auf kompakte Impulse und die Gelegenheit, sich direkt mit uns aus
 zutauschen. </p>\n\n<p>Im Vordergrund steht eine Diskussion mit Teiln
 ehmenden und Inputs zu:</p>\n\n<ul>\n	<li>Wie technische Faktoren und mens
 chliche Wahrnehmung zu Verzerrungen (Biases) in KI-Systemen führen können.
 \n	<ul>\n		<li>Wie entstehen Biases in der künstlichen Intelligenz? <
 /li>\n		<li>Wie beeinflussen menschliche Wahrnehmung und Einstellungen KI-
 Ergebnisse? </li>\n		<li>Wie können transparente, menschzentrierte KI
 -Ansätze für faire Ergebnisse sorgen?</li>\n	</ul>\n	</li>\n</ul>\n\n<p>Ge
 nießen Sie Ihren Morgenkaffee oder Tee – und lassen Sie sich inspiri
 eren!</p>\n\n<p style="text-align:right"><a class="btn btn-primary" href="
 https://us06web.zoom.us/meeting/register/tZYsdOuvqjwiH9Amw7huo4gJZlkzH3XxX
 STU#/registration" target="_blank">Jetzt kostenfrei anmelden*</a></p>\n\n<
 p style="text-align:right"><em>*Die Einwahldaten werden Ihnen nach der Anm
 eldung automatisch zugeschickt. Sie müssen sich nur einmal für die gesamte 
 Veranstaltungsreihe anmelden und können dann beliebig an den einzelnen Ter
 minen teilnehmen. Die Einwahldaten für das Meeting bleiben für die gesamte 
 Veranstaltungsreihe gleich.</em></p>\n
DTSTART;TZID=Europe/Berlin:20251015T083000
DTEND;TZID=Europe/Berlin:20251015T090000
CREATED:20250708T125053Z
LOCATION:Online
DTSTAMP:20250930T133959Z
URL:https://www.digitalzentrum-fokus-mensch.de/kos/WNetz?art=Appointment.sh
 ow&id=2077
END:VEVENT
BEGIN:VTIMEZONE
TZID:Europe/Berlin
LAST-MODIFIED:20260306T231828Z
TZURL:https://www.tzurl.org/zoneinfo-outlook/Europe/Berlin
X-LIC-LOCATION:Europe/Berlin
BEGIN:DAYLIGHT
TZNAME:CEST
TZOFFSETFROM:+0100
TZOFFSETTO:+0200
DTSTART:19700329T020000
RRULE:FREQ=YEARLY;BYDAY=-1SU;BYMONTH=3
END:DAYLIGHT
BEGIN:STANDARD
TZNAME:CET
TZOFFSETFROM:+0200
TZOFFSETTO:+0100
DTSTART:19701025T030000
RRULE:FREQ=YEARLY;BYDAY=-1SU;BYMONTH=10
END:STANDARD
END:VTIMEZONE
END:VCALENDAR
