BEGIN:VCALENDAR
VERSION:2.0
PRODID:-//Michael Angstadt//biweekly 0.4.4//EN
CALSCALE:GREGORIAN
METHOD:PUPLISH
X-FROM-URL:https://www.digitalzentrum-fokus-mensch.de
X-WR-TIMEZONE:Europe/Berlin
BEGIN:VEVENT
UID:ap_1951@www.digitalzentrum-fokus-mensch.de
SUMMARY:[Abgesagt] Snacktime Digitalisierung: KI &#8211\; Hype oder heiße L
 uft?
STATUS:CANCELLED
DESCRIPTION:\n\nStarten Sie Ihren Tag mit einem kompakten und leicht verdau
 lichen Wissens-Snack\, den Sie direkt anwenden können! In unserem Onlinefo
 rmat nehmen wir uns jeden 3. Mittwoch im Monat von 8:30 bis 9:00 Uhr Zeit\
 , um Ihnen spannende Einblicke in aktuelle Digitalthemen zu bieten. Ob bei 
 einer Tasse Kaffee oder Tee – freuen Sie sich auf kompakte Impulse und die 
 Gelegenheit\, sich direkt mit uns auszutauschen. \n\nIm Fokus steht im Dez
 ember das Thema KI – Hype oder heiße Luft? \n\nKünstliche Intelligenz ist 
 überall und verspricht\, die Welt smarter\, schneller und besser zu machen 
 – oder vielleicht auch einfach nur komplizierter? In unserer Frühstücksrun
 de schauen wir hinter den Hype. Wo bringt uns die Technologie weiter und w
 o braucht sie dringend einen Reality-Check? Wo wird’s eher absurd\, und we
 lche Themen müssen mal ordentlich auf den Tisch? Damit uns die Diskussione
 n nicht ausgehen\, ziehen wir Karten mit provokanten Fragen. \n\nGenießen 
 Sie Ihren Morgenkaffee oder Tee – und lassen Sie sich inspirieren! \n\n \n
 \nJetzt kostenfrei anmelden* \n\n*Die Einwahldaten werden Ihnen nach der A
 nmeldung automatisch zugeschickt. Sie müssen sich nur einmal für die gesam
 te Veranstaltungsreihe anmelden und können dann beliebig an den einzelnen 
 Terminen teilnehmen. Die Einwahldaten für das Meeting bleiben für die gesa
 mte Veranstaltungsreihe gleich.
X-ALT-DESC;FMTTYPE=text/html:<p>Starten Sie Ihren Tag mit einem kompakten u
 nd leicht verdaulichen Wissens-Snack, den Sie direkt anwenden können! In u
 nserem Onlineformat nehmen wir uns <strong>jeden 3. Mittwoch im Monat von 
 8:30 bis 9:00 Uhr</strong> Zeit, um Ihnen spannende Einblicke in aktuelle 
 Digitalthemen zu bieten. Ob bei einer Tasse Kaffee oder Tee – freuen 
 Sie sich auf kompakte Impulse und die Gelegenheit, sich direkt mit uns aus
 zutauschen. </p>\n\n<p><strong>Im Fokus steht im Dezember das Thema K
 I – Hype oder heiße Luft?</strong></p>\n\n<p>Künstliche Intelligenz 
 ist überall und verspricht, die Welt smarter, schneller und besser zu mach
 en – oder vielleicht auch einfach nur komplizierter? In unserer Früh
 stücksrunde schauen wir hinter den Hype. Wo bringt uns die Technologie wei
 ter und wo braucht sie dringend einen Reality-Check? Wo wird’s eher 
 absurd, und welche Themen müssen mal ordentlich auf den Tisch? Damit uns d
 ie Diskussionen nicht ausgehen, ziehen wir Karten mit provokanten Fragen.<
 /p>\n\n<p>Genießen Sie Ihren Morgenkaffee oder Tee – und lassen Sie 
 sich inspirieren!</p>\n\n<p style="text-align:right"> </p>\n\n<p style="te
 xt-align:right"><a class="btn btn-primary" href="https://us06web.zoom.us/m
 eeting/register/tZYsdOuvqjwiH9Amw7huo4gJZlkzH3XxXSTU" target="_blank">Jetz
 t kostenfrei anmelden*</a></p>\n\n<p style="text-align:right"><em>*Die Ein
 wahldaten werden Ihnen nach der Anmeldung automatisch zugeschickt. Sie müs
 sen sich nur einmal für die gesamte Veranstaltungsreihe anmelden und könne
 n dann beliebig an den einzelnen Terminen teilnehmen. Die Einwahldaten für 
 das Meeting bleiben für die gesamte Veranstaltungsreihe gleich.</em></p>\n
DTSTART;TZID=Europe/Berlin:20241218T083000
DTEND;TZID=Europe/Berlin:20241218T090000
CREATED:20241209T095555Z
LOCATION:Online
DTSTAMP:20241217T122405Z
URL:https://www.digitalzentrum-fokus-mensch.de/kos/WNetz?art=Appointment.sh
 ow&id=1951
END:VEVENT
BEGIN:VTIMEZONE
TZID:Europe/Berlin
LAST-MODIFIED:20260306T231828Z
TZURL:https://www.tzurl.org/zoneinfo-outlook/Europe/Berlin
X-LIC-LOCATION:Europe/Berlin
BEGIN:DAYLIGHT
TZNAME:CEST
TZOFFSETFROM:+0100
TZOFFSETTO:+0200
DTSTART:19700329T020000
RRULE:FREQ=YEARLY;BYDAY=-1SU;BYMONTH=3
END:DAYLIGHT
BEGIN:STANDARD
TZNAME:CET
TZOFFSETFROM:+0200
TZOFFSETTO:+0100
DTSTART:19701025T030000
RRULE:FREQ=YEARLY;BYDAY=-1SU;BYMONTH=10
END:STANDARD
END:VTIMEZONE
END:VCALENDAR
