BEGIN:VCALENDAR
VERSION:2.0
PRODID:-//Michael Angstadt//biweekly 0.4.4//EN
CALSCALE:GREGORIAN
METHOD:PUPLISH
X-FROM-URL:https://www.digitalzentrum-fokus-mensch.de
X-WR-TIMEZONE:Europe/Berlin
BEGIN:VEVENT
UID:ap_1642@www.digitalzentrum-fokus-mensch.de
SUMMARY:Impuls Vortrag Phishing und Social Engineering auf der UKUS
STATUS:CONFIRMED
DESCRIPTION:\n\nAm 18. April haben wir das Vergnügen an der nächsten Verans
 taltung des Unternehmerkolloquiums der Universität Siegen (UKUS) mitzuwirk
 en. Auf der UKUS geht es diesmal um das Thema IT Sicherheit\, genauer gesa
 gt um Cyber-Attacken\, Phishing und was Unternehmen tun können. \n\nDie Ve
 ranstaltung besteht aus drei Vorträgen: \n\nVortrag 1: Cyber-Attacken: Lei
 se\, oft überraschend und ganz schnell wird es dunkel (Markus Weber\, Doku
 Works) \n\nVortrag 2: Phishing und Social Engineering – Werden Sie klüger 
 als der Angler. (Michelle Walther\, Hochschule Bonn Rhein Sieg & Mittelsta
 nd 4.0 – Kompetenzzentrum Usability) \n\nVortrag 3: Unbeabsichtigt gehackt 
 - wie können Sie es verhindern? (Maximilian Becker – the Unified\, TKUC Gm
 bH) \n\nIn unserem Vortrag zu Phishing und Social Engineering zeigt unsere 
 Expertin\, Michelle Walther\, Ihnen wie Sie Phishing-E-Mails erkennen und 
 effektiv vermeiden können. Mit Hilfe neuester Erkenntnisse aus der Wissens
 chaft und praxisorientierten Lösungsansätzen werden Sie lernen\, wie Sie i
 n Zukunft sicher und selbstbewusst mit E-Mails umgehen können. Melden Sie 
 sich jetzt an und schützen Sie Ihre persönlichen Daten und Ihr Unternehmen 
 vor diesen heimtückischen Angriffen. \n\nWir freuen uns auf eine spannende 
 Veranstaltung mit Ihnen! \n \n Nähere Informationen / Anmeldung unter: \n 
 https://lnkd.in/eCR--vg3
X-ALT-DESC;FMTTYPE=text/html:<p>Am 18. April haben wir das Vergnügen an der 
 nächsten Veranstaltung des Unternehmerkolloquiums der Universität Siegen (
 UKUS) mitzuwirken. Auf der UKUS geht es diesmal um das Thema IT Sicherheit
 , genauer gesagt um Cyber-Attacken, Phishing und was Unternehmen tun 
 können.</p>\n\n<p>Die Veranstaltung besteht aus drei Vorträgen:</p>\n\n<p>
 <em>Vortrag 1: Cyber-Attacken: Leise, oft überraschend und ganz schne
 ll wird es dunkel (Markus Weber, DokuWorks)</em></p>\n\n<p><em>Vortra
 g 2: Phishing und Social Engineering – Werden Sie klüger als de
 r Angler. (Michelle Walther, Hochschule Bonn Rhein Sieg & Mittels
 tand 4.0 – Kompetenzzentrum Usability)</em></p>\n\n<p><em>Vortr
 ag 3: Unbeabsichtigt gehackt - wie können Sie es verhindern? (Maximilian&n
 bsp;Becker – the Unified, TKUC GmbH)</em></p>\n\n<p>In unserem Vortr
 ag zu <em>Phishing und Social Engineering </em>zeigt unsere Expertin, 
 Michelle Walther, Ihnen wie Sie Phishing-E-Mails erkennen und effekti
 v vermeiden können. Mit Hilfe neuester Erkenntnisse aus der Wissenschaft u
 nd praxisorientierten Lösungsansätzen werden Sie lernen, wie Sie in Zukunf
 t sicher und selbstbewusst mit E-Mails umgehen können. Melden Sie sich jet
 zt an und schützen Sie Ihre persönlichen Daten und Ihr Unternehmen vor die
 sen heimtückischen Angriffen.</p>\n\n<p>Wir freuen uns auf eine spannende 
 Veranstaltung mit Ihnen!<br />\n<br />\nNähere Informationen / Anmeldung u
 nter:<br />\n<a href="https://lnkd.in/eCR--vg3">https://lnkd.in/eCR--vg3</
 a></p>\n
DTSTART;TZID=Europe/Berlin:20230418T170000
DTEND;TZID=Europe/Berlin:20230418T190000
CREATED:20230406T090159Z
LOCATION:IHK Siegen\, Koblenzer Straße 121\,  57072 Siegen/ Online
DTSTAMP:20231010T163225Z
URL:https://www.digitalzentrum-fokus-mensch.de/kos/WNetz?art=Appointment.sh
 ow&id=1642
END:VEVENT
BEGIN:VTIMEZONE
TZID:Europe/Berlin
LAST-MODIFIED:20260306T231828Z
TZURL:https://www.tzurl.org/zoneinfo-outlook/Europe/Berlin
X-LIC-LOCATION:Europe/Berlin
BEGIN:DAYLIGHT
TZNAME:CEST
TZOFFSETFROM:+0100
TZOFFSETTO:+0200
DTSTART:19700329T020000
RRULE:FREQ=YEARLY;BYDAY=-1SU;BYMONTH=3
END:DAYLIGHT
BEGIN:STANDARD
TZNAME:CET
TZOFFSETFROM:+0200
TZOFFSETTO:+0100
DTSTART:19701025T030000
RRULE:FREQ=YEARLY;BYDAY=-1SU;BYMONTH=10
END:STANDARD
END:VTIMEZONE
END:VCALENDAR
