BEGIN:VCALENDAR
VERSION:2.0
PRODID:-//Michael Angstadt//biweekly 0.4.4//EN
CALSCALE:GREGORIAN
METHOD:PUPLISH
X-FROM-URL:https://www.digitalzentrum-fokus-mensch.de
X-WR-TIMEZONE:Europe/Berlin
BEGIN:VEVENT
UID:ap_1443@www.digitalzentrum-fokus-mensch.de
SUMMARY:KI-Trainer: Entwicklung &#8211\; Python-Grundlagen für Deep Learnin
 g Teil 1
STATUS:CONFIRMED
DESCRIPTION:\n\nHier anmelden \n\nMit den geeigneten Plattformen und Entwic
 klungswerkzeugen lassen sich KI-Projekte sehr schnell umsetzen. Insbesonde
 re die vielversprechenden Deep-Learning-Technologien besitzen eine Vielzah
 l an Entwicklungstools\, die es KI-Entwicklern erlauben\, weniger Zeit für 
 aufwendige Grundlagen-Implementationen aufzubrauchen und dafür mehr Zeit f
 ür die Problemlösung selbst zu finden. \n\nIn mehreren Teilen geht es in d
 iesem Schwerpunkt deshalb rund um die Entwicklung: Angefangen bei einem Ei
 nstieg in die Pythonprogrammierung\, über die Betrachtung gängiger Entwick
 lungstools und -frameworks\, bis hin zu Deep-Learning-Grundlagen und deren 
 Implementation. Diese Reihe erlaubt es Programmierern ohne KI-Kenntnisse\, 
 startbereit für Deep Learning zu werden. An den einzelnen Teilen kann sequ
 enziell teilgenommen werden\, benötigte Kenntnisse in späteren Teilen werd
 en in vorherigen Teilen vermittelt – grundlegende Programmierkenntnisse so
 llten jedoch mitgebracht werden. \n\nDie Inhalte werden anhand von uns geh
 osteter Jupyter Books gemeinsam erarbeitet – Teilnehmer können direkt akti
 v im Web-Browser mit programmieren\, ohne vorher ihr eigenes System vorber
 eiten zu müssen. Übungen im Laufe der Veranstaltungen geben Zeit\, die Inh
 alte zu festigen. \n\n1: Python-Grundlagen für Deep Learning \n\nIn dieser 
 zweiteiligen Reihe werden die Grundlagen der Pythonprogrammierung als Basi
 s für Deep Learning nähergebracht. Die folgenden Themen werden behandelt: 
 die Syntax gängiger Python-Strukturen\, u. a. Funktionen\, Klassen\, Varia
 blen Python-Datenstrukturen (List\, Dictionary\, Tuple) Python-Module \n\n
 Voraussetzungen: \n Allgemeine Programmierkenntnisse: Teilnehmer sollten b
 ereits Kenntnisse von einer anderen\, bestenfalls objektorientierten Sprac
 he mitbringen. So sollten folgende Fragen beantwortet werden können: Wie i
 st ein Programm aufgebaut? Was für Datentypen gibt es? Was sind Funktionen
 \, Variablen\, Ablaufstrukturen\, Klassen? \n\nZielgruppe: \n Entwickler o
 hne Pythonkenntnisse\, die in Zukunft Deep-Learning-Algorithmen implementi
 eren möchten. \n\nDetails und Termine zu anderen Teilen dieses Schwerpunkt
 es finden Sie hier.
X-ALT-DESC;FMTTYPE=text/html:<p><a href="https://ki-trainer.mi.hdm-stuttgar
 t.de/events/11?utm_campaign=oktober-entwicklung&utm_source=komzu&u
 tm_medium=web">Hier anmelden</a></p>\n\n<p>Mit den geeigneten Plattformen 
 und Entwicklungswerkzeugen lassen sich KI-Projekte sehr schnell umsetzen. 
 Insbesondere die vielversprechenden Deep-Learning-Technologien besitzen ei
 ne Vielzahl an Entwicklungstools, die es KI-Entwicklern erlauben, weniger 
 Zeit für aufwendige Grundlagen-Implementationen aufzubrauchen und daf
 ür mehr Zeit für die Problemlösung selbst zu finden.</p>\n\n<p>In mehreren 
 Teilen geht es in diesem Schwerpunkt deshalb rund um die Entwicklung: Ange
 fangen bei einem Einstieg in die Pythonprogrammierung, über die Betrachtun
 g gängiger Entwicklungstools und -frameworks, bis hin zu Deep-Learning-Gru
 ndlagen und deren Implementation. Diese Reihe erlaubt es Programmiere
 rn ohne KI-Kenntnisse, startbereit für Deep Learning zu werden. An den ein
 zelnen Teilen kann sequenziell teilgenommen werden, benötigte Kenntnisse i
 n späteren Teilen werden in vorherigen Teilen vermittelt – grundlege
 nde Programmierkenntnisse sollten jedoch mitgebracht werden.</p>\n\n<ul>\n
 </ul>\n\n<p>Die Inhalte werden anhand von uns gehosteter Jupyter Books gem
 einsam erarbeitet – Teilnehmer können direkt aktiv im Web-Brows
 er mit programmieren, ohne vorher ihr eigenes System vorbereiten zu müssen
 . Übungen im Laufe der Veranstaltungen geben Zeit, die Inhalte zu festigen
 .</p>\n\n<p><strong>1: Python-Grundlagen für Deep Learning</strong></p>\n\
 n<p>In dieser zweiteiligen Reihe werden die Grundlagen der Pythonprogrammi
 erung als Basis für Deep Learning nähergebracht. Die folgenden Themen werd
 en behandelt:</p>\n\n<ul>\n	<li>die Syntax gängiger Python-Strukturen, u. 
 a. Funktionen, Klassen, Variablen</li>\n	<li>Python-Datenstrukturen (List, 
 Dictionary, Tuple)</li>\n	<li>Python-Module</li>\n</ul>\n\n<p><u>Vorausset
 zungen</u>:<br />\nAllgemeine Programmierkenntnisse: Teilnehmer sollten be
 reits Kenntnisse von einer anderen, bestenfalls objektorientierten Sprache 
 mitbringen. So sollten folgende Fragen beantwortet werden können: Wie ist 
 ein Programm aufgebaut? Was für Datentypen gibt es? Was sind Funktionen,&n
 bsp;Variablen, Ablaufstrukturen, Klassen? </p>\n\n<p><u>Zie
 lgruppe</u>:<br />\nEntwickler ohne Pythonkenntnisse, die in Zukunft Deep-
 Learning-Algorithmen implementieren möchten.</p>\n\n<p>Details und Termine 
 zu anderen Teilen dieses Schwerpunktes finden Sie <a href="https://ww
 w.kompetenzzentrum-usability.digital/angebote/ki-trainer/ki-trainer-schwer
 punkt-2-entwicklung">hier</a>.</p>\n
DTSTART;TZID=Europe/Berlin:20221005T100000
DTEND;TZID=Europe/Berlin:20221005T120000
CREATED:20220808T121759Z
LOCATION:Online
DTSTAMP:20221011T083004Z
URL:https://www.digitalzentrum-fokus-mensch.de/kos/WNetz?art=Appointment.sh
 ow&id=1443
END:VEVENT
BEGIN:VTIMEZONE
TZID:Europe/Berlin
LAST-MODIFIED:20260306T231828Z
TZURL:https://www.tzurl.org/zoneinfo-outlook/Europe/Berlin
X-LIC-LOCATION:Europe/Berlin
BEGIN:DAYLIGHT
TZNAME:CEST
TZOFFSETFROM:+0100
TZOFFSETTO:+0200
DTSTART:19700329T020000
RRULE:FREQ=YEARLY;BYDAY=-1SU;BYMONTH=3
END:DAYLIGHT
BEGIN:STANDARD
TZNAME:CET
TZOFFSETFROM:+0200
TZOFFSETTO:+0100
DTSTART:19701025T030000
RRULE:FREQ=YEARLY;BYDAY=-1SU;BYMONTH=10
END:STANDARD
END:VTIMEZONE
END:VCALENDAR
