BEGIN:VCALENDAR
VERSION:2.0
PRODID:-//Michael Angstadt//biweekly 0.4.4//EN
CALSCALE:GREGORIAN
METHOD:PUPLISH
X-FROM-URL:https://www.digitalzentrum-fokus-mensch.de
X-WR-TIMEZONE:Europe/Berlin
BEGIN:VEVENT
UID:ap_1360@www.digitalzentrum-fokus-mensch.de
SUMMARY:IT meets UX
STATUS:CONFIRMED
DESCRIPTION:\n\nBerliner Digitalakteure aufgepasst! Wir sprechen bei Limo\, 
 Bier bei unserem Meetup über UX und IT – doch im Mittelpunkt stehen Sie! \
 n\n \n\nIT-Produkte und UX (User Experience) sind untrennbar miteinander v
 erbunden. Gute UX ist in einer Welt mit komplexen Anforderungen und Lösung
 en so wichtig wie noch nie. Wie sieht der erste Schritt aus und wie kann d
 araus ein nutzerfreundliches\, digitales Produkt entstehen? Treffen Sie au
 f IT- und UX-Agenturen und finden Sie heraus\, wie Sie sich den Herausford
 erungen gemeinsam stellen und voneinander lernen können! \n\nIT meets UX z
 eigt wie das Zusammenspiel von Technologie und Mensch funktionieren kann. 
 Diesmal wird die Schnittestelle der technologischen Innovationen behandelt 
 und in einer offenen Umgebung diskutiert. Darüber hinaus können Sie sich ü
 ber Förder- und Kooperationsmöglichkeiten informieren. \n\n \n\nMit zwei s
 pannenden Beiträgen zur kontaktlosen Mensch-Computer Interaktion wird das 
 Meetup eröffnet: Konzepte\, Technologien und Anwendungen der kontaktlosen 
 Mensch-Computer Interaktion / Paul Chojecki von Fraunhofer HHI SENSING PRO
 JECTIONS - A Drive Towards Brain Synchronisation And Collective Motion / J
 osé Fernando Andrade von InnativeLab \n\nAnschließend kann am Demonstrator 
 von InnativeLab die Brain-Computer Interaktion erlebt werden. \n\nAnmeldun
 g \n\n \n\nKommen Sie jederzeit dazu\, tauschen Sie sich aus & vernetzen S
 ie sich! Wir freuen uns auf Sie! Die Veranstaltung findet in Kooperation m
 it dem Kompetenzzentrum IT-Wirtschaft sowie Berlin Partner für Wirtschaft 
 und Technologie statt und ist für Sie kostenfrei. \n\n
X-ALT-DESC;FMTTYPE=text/html:<p><strong>Berliner Digitalakteure aufgepasst! 
 Wir sprechen bei Limo, Bier bei unserem Meetup über UX und IT – doch 
 im Mittelpunkt stehen Sie!</strong></p>\n\n<p> </p>\n\n<p>IT-Produkte und 
 UX (User Experience) sind untrennbar miteinander verbunden. Gute UX ist in 
 einer Welt mit komplexen Anforderungen und Lösungen so wichtig wie noch ni
 e. Wie sieht der erste Schritt aus und wie kann daraus ein nutzerfreundlic
 hes, digitales Produkt entstehen? Treffen Sie auf IT- und UX-Agenturen und 
 finden Sie heraus, wie Sie sich den Herausforderungen gemeinsam stellen un
 d voneinander lernen können!</p>\n\n<p>IT meets UX zeigt wie das Zusammens
 piel von Technologie und Mensch funktionieren kann. Diesmal wird die Schni
 ttestelle der technologischen Innovationen behandelt und in einer offenen 
 Umgebung diskutiert. Darüber hinaus können Sie sich über Förder- und Koope
 rationsmöglichkeiten informieren.</p>\n\n<p> </p>\n\n<p>Mit zwei spannende
 n Beiträgen zur kontaktlosen Mensch-Computer Interaktion wird das Meetup e
 röffnet:</p>\n\n<ol>\n	<li><strong>Konzepte, Technologien und Anwendungen 
 der kontaktlosen Mensch-Computer Interaktion</strong> / Paul Chojecki von 
 <a href="https://www.hhi.fraunhofer.de/abteilungen/vit/forschungsgruppen/i
 mmersive-medien-und-kommunikation/forschungsthemen/contact-free-interactio
 n.html">Fraunhofer HHI</a></li>\n	<li><strong>SENSING PROJECTIONS - A Driv
 e Towards Brain Synchronisation And Collective Motion</strong> / José Fern
 ando Andrade von <a href="https://innativelab.com/">InnativeLab</a></li>\n
 </ol>\n\n<p>Anschließend kann am Demonstrator von InnativeLab die Brain-Co
 mputer Interaktion erlebt werden.</p>\n\n<p><a class="btn btn-primary" hre
 f="https://www.eventbrite.de/e/it-meets-ux-tickets-337177726657" target="_
 blank">Anmeldung</a></p>\n\n<p> </p>\n\n<p>Kommen Sie jederzeit dazu, taus
 chen Sie sich aus & vernetzen Sie sich! Wir freuen uns auf Sie! Die Ve
 ranstaltung findet in Kooperation mit dem <a href="https://itwirtschaft.de
 /">Kompetenzzentrum IT-Wirtschaft</a> sowie <a href="https://www.berlin-pa
 rtner.de/">Berlin Partner für Wirtschaft und Technologie</a> statt und ist 
 für Sie kostenfrei.</p>\n\n<p> </p>\n
DTSTART;TZID=Europe/Berlin:20220616T170000
DTEND;TZID=Europe/Berlin:20220616T210000
CREATED:20220516T142029Z
LOCATION:Berlin
DTSTAMP:20230111T110657Z
URL:https://www.digitalzentrum-fokus-mensch.de/kos/WNetz?art=Appointment.sh
 ow&id=1360
END:VEVENT
BEGIN:VTIMEZONE
TZID:Europe/Berlin
LAST-MODIFIED:20260306T231828Z
TZURL:https://www.tzurl.org/zoneinfo-outlook/Europe/Berlin
X-LIC-LOCATION:Europe/Berlin
BEGIN:DAYLIGHT
TZNAME:CEST
TZOFFSETFROM:+0100
TZOFFSETTO:+0200
DTSTART:19700329T020000
RRULE:FREQ=YEARLY;BYDAY=-1SU;BYMONTH=3
END:DAYLIGHT
BEGIN:STANDARD
TZNAME:CET
TZOFFSETFROM:+0200
TZOFFSETTO:+0100
DTSTART:19701025T030000
RRULE:FREQ=YEARLY;BYDAY=-1SU;BYMONTH=10
END:STANDARD
END:VTIMEZONE
END:VCALENDAR
