BEGIN:VCALENDAR
VERSION:2.0
PRODID:-//Michael Angstadt//biweekly 0.4.4//EN
CALSCALE:GREGORIAN
METHOD:PUPLISH
X-FROM-URL:https://www.digitalzentrum-fokus-mensch.de
X-WR-TIMEZONE:Europe/Berlin
BEGIN:VEVENT
UID:ap_136@www.digitalzentrum-fokus-mensch.de
SUMMARY:UUX-Methoden praxisnah - Erlebnisinterview
STATUS:CONFIRMED
DESCRIPTION:\n\nIn der Workshop-Reihe „UUX-Methoden praxisnah“ des Mittelst
 and 4.0-Kompetenzzentrums Usability dreht sich alles um Usability- und Use
 r Experience (kurz: UUX)-Methoden. Bei jedem Termin steht eine andere Meth
 ode im Fokus: Nachdem zunächst deren Hintergründe und Ziele vorgestellt we
 rden\, geht es in eine interaktive Phase. In dieser wird die Methode unter 
 Anleitung am Beispiel einer Fragestellung aus der Praxis angewandt. \n Zie
 l ist die Vermittlung der theoretischen und praktischen Grundlagen der Met
 hode\, sodass die Workshopteilnehmer diese anschließend selbständig in ihr
 en Unternehmen erproben können. \n\nAm 31.07.2019 beginnt die Workshop-Rei
 he mit der UX-Methode des Erlebnisinterviews. \n\nDie Anmeldung zur Worksh
 op-Reihe erfolgt über diesen Link. \n\nVeranstaltungsort: \n\nbwcon \n Sey
 fferstr. 34 \n 70197 Stuttgart
X-ALT-DESC;FMTTYPE=text/html:<p>In der Workshop-Reihe „UUX-Methoden p
 raxisnah“ des Mittelstand 4.0-Kompetenzzentrums Usability dreht sich 
 alles um Usability- und User Experience (kurz: UUX)-Methoden. Bei jed
 em Termin steht eine andere Methode im Fokus: Nachdem zunächst deren Hinte
 rgründe und Ziele vorgestellt werden, geht es in eine interaktive Phase. I
 n dieser wird die Methode unter Anleitung am Beispiel einer Fragestellung 
 aus der Praxis angewandt.<br />\nZiel ist die Vermittlung der theoretische
 n und praktischen Grundlagen der Methode, sodass die Workshopteilnehmer di
 ese anschließend selbständig in ihren Unternehmen erproben können. </
 p>\n\n<p>Am <u>31.07.2019</u> beginnt die Workshop-Reihe mit der UX-Method
 e des <u>Erlebnisinterviews</u>.</p>\n\n<p>Die Anmeldung zur Workshop-Reih
 e erfolgt über diesen <a href="https://venture-dev.com/webform/Z9SGjR
 XJXQCvaoE6/">Link</a>.</p>\n\n<p><strong>Veranstaltungsort:</strong></p>\n
 \n<p>bwcon<br />\nSeyfferstr. 34<br />\n70197 Stuttgart</p>\n
DTSTART;TZID=Europe/Berlin:20190731T170000
DTEND;TZID=Europe/Berlin:20190731T190000
CREATED:20190701T112254Z
LOCATION:bwcon Stuttgart
DTSTAMP:20201110T151443Z
URL:https://www.digitalzentrum-fokus-mensch.de/kos/WNetz?art=Appointment.sh
 ow&id=136
END:VEVENT
BEGIN:VTIMEZONE
TZID:Europe/Berlin
LAST-MODIFIED:20260306T231828Z
TZURL:https://www.tzurl.org/zoneinfo-outlook/Europe/Berlin
X-LIC-LOCATION:Europe/Berlin
BEGIN:DAYLIGHT
TZNAME:CEST
TZOFFSETFROM:+0100
TZOFFSETTO:+0200
DTSTART:19700329T020000
RRULE:FREQ=YEARLY;BYDAY=-1SU;BYMONTH=3
END:DAYLIGHT
BEGIN:STANDARD
TZNAME:CET
TZOFFSETFROM:+0200
TZOFFSETTO:+0100
DTSTART:19701025T030000
RRULE:FREQ=YEARLY;BYDAY=-1SU;BYMONTH=10
END:STANDARD
END:VTIMEZONE
END:VCALENDAR
